BEGIN:VCALENDAR
VERSION:2.0
PRODID:-//フリマ総研 - ECPv6.15.20//NONSGML v1.0//EN
CALSCALE:GREGORIAN
METHOD:PUBLISH
X-WR-CALNAME:フリマ総研
X-ORIGINAL-URL:https://date.flima.net
X-WR-CALDESC:フリマ総研 のイベント
REFRESH-INTERVAL;VALUE=DURATION:PT1H
X-Robots-Tag:noindex
X-PUBLISHED-TTL:PT1H
BEGIN:VTIMEZONE
TZID:Asia/Tokyo
BEGIN:STANDARD
TZOFFSETFROM:+0900
TZOFFSETTO:+0900
TZNAME:JST
DTSTART:20240101T000000
END:STANDARD
END:VTIMEZONE
BEGIN:VEVENT
DTSTART;TZID=Asia/Tokyo:20251102T083000
DTEND;TZID=Asia/Tokyo:20251102T153000
DTSTAMP:20260422T083629
CREATED:20250904T081710Z
LAST-MODIFIED:20250904T081710Z
UID:2916-1762072200-1762097400@date.flima.net
SUMMARY:61th岐阜高専祭「新華」
DESCRIPTION:61th岐阜高専祭「新華」\n岐阜県本巣市上真桑2236ー2\n岐阜工業高等専門学校\n古着や雑貨、ハンドメイドの作品お待ちしております！ \n\n				Facebook で共有 (新しいウィンドウで開きます)\n				Facebook\n			\n				X で共有 (新しいウィンドウで開きます)\n				X\n			その他\n				line で共有 (新しいウィンドウで開きます)\n				line\n			\n				印刷 (新しいウィンドウで開きます)\n				印刷\n			\n				友達にメールでリンクを送信 (新しいウィンドウで開きます)\n				メールアドレス
URL:https://date.flima.net/event/61th%e5%b2%90%e9%98%9c%e9%ab%98%e5%b0%82%e7%a5%ad%e3%80%8c%e6%96%b0%e8%8f%af%e3%80%8d-2/
LOCATION:岐阜工業高等専門学校\, 岐阜県本巣市上真桑2236ー2
CATEGORIES:岐阜県,本巣市
ORGANIZER;CN="%E5%B2%90%E9%98%9C%E9%AB%98%E5%B0%82%E3%83%95%E3%83%AA%E3%83%BC%E3%83%9E%E3%83%BC%E3%82%B1%E3%83%83%E3%83%88%E9%83%A8":MAILTO:2020a37@stu.gifu-nct.ac.jp
END:VEVENT
BEGIN:VEVENT
DTSTART;TZID=Asia/Tokyo:20251101T093000
DTEND;TZID=Asia/Tokyo:20251101T153000
DTSTAMP:20260422T083629
CREATED:20250904T081514Z
LAST-MODIFIED:20250904T081533Z
UID:2912-1761989400-1762011000@date.flima.net
SUMMARY:61th岐阜高専祭「新華」
DESCRIPTION:61th岐阜高専祭「新華」\n岐阜県本巣市上真桑2236ー2\n岐阜工業高等専門学校\n古着や雑貨、ハンドメイドの作品お待ちしております！ \n\n				Facebook で共有 (新しいウィンドウで開きます)\n				Facebook\n			\n				X で共有 (新しいウィンドウで開きます)\n				X\n			その他\n				line で共有 (新しいウィンドウで開きます)\n				line\n			\n				印刷 (新しいウィンドウで開きます)\n				印刷\n			\n				友達にメールでリンクを送信 (新しいウィンドウで開きます)\n				メールアドレス
URL:https://date.flima.net/event/61th%e5%b2%90%e9%98%9c%e9%ab%98%e5%b0%82%e7%a5%ad%e3%80%8c%e6%96%b0%e8%8f%af%e3%80%8d/
LOCATION:岐阜工業高等専門学校\, 岐阜県本巣市上真桑2236ー2
CATEGORIES:岐阜県,本巣市
ORGANIZER;CN="%E5%B2%90%E9%98%9C%E9%AB%98%E5%B0%82%E3%83%95%E3%83%AA%E3%83%BC%E3%83%9E%E3%83%BC%E3%82%B1%E3%83%83%E3%83%88%E9%83%A8":MAILTO:2020a37@stu.gifu-nct.ac.jp
END:VEVENT
END:VCALENDAR