BEGIN:VCALENDAR
VERSION:2.0
PRODID:-//フリマ総研 - ECPv6.15.20//NONSGML v1.0//EN
CALSCALE:GREGORIAN
METHOD:PUBLISH
X-WR-CALNAME:フリマ総研
X-ORIGINAL-URL:https://date.flima.net
X-WR-CALDESC:フリマ総研 のイベント
REFRESH-INTERVAL;VALUE=DURATION:PT1H
X-Robots-Tag:noindex
X-PUBLISHED-TTL:PT1H
BEGIN:VTIMEZONE
TZID:Asia/Tokyo
BEGIN:STANDARD
TZOFFSETFROM:+0900
TZOFFSETTO:+0900
TZNAME:JST
DTSTART:20250101T000000
END:STANDARD
END:VTIMEZONE
BEGIN:VEVENT
DTSTART;TZID=Asia/Tokyo:20260421T100000
DTEND;TZID=Asia/Tokyo:20260421T113000
DTSTAMP:20260421T235927
CREATED:20250721T065206Z
LAST-MODIFIED:20260308T220204Z
UID:2593-1776765600-1776771000@date.flima.net
SUMMARY:みよしカネヨシフリマ
DESCRIPTION:みよしカネヨシフリマ\n愛知県みよし市三好町王慈山 1-1\nカネヨシプレイス（旧名称みよしサンアート）\nレセプションホール\nトヨタ三好工場西約1.5km\nフリマも手作りも800円\n屋内開催\n☆お申し込みはこちらから☆ \n屋内35ブース出店料800円 \n紙ふうせん\n080-9330-4128 \n\n				Facebook で共有 (新しいウィンドウで開きます)\n				Facebook\n			\n				X で共有 (新しいウィンドウで開きます)\n				X\n			その他\n				line で共有 (新しいウィンドウで開きます)\n				line\n			\n				印刷 (新しいウィンドウで開きます)\n				印刷\n			\n				友達にメールでリンクを送信 (新しいウィンドウで開きます)\n				メールアドレス
URL:https://date.flima.net/event/%e3%81%bf%e3%82%88%e3%81%97%e3%82%ab%e3%83%8d%e3%83%a8%e3%82%b7%e3%83%95%e3%83%aa%e3%83%9e-2/
LOCATION:カネヨシプレイスレセプションホール\, 愛知県みよし市三好町王慈山 1-1
CATEGORIES:愛知県,みよし市
END:VEVENT
END:VCALENDAR