BEGIN:VCALENDAR
VERSION:2.0
PRODID:-//フリマ総研 - ECPv6.15.20//NONSGML v1.0//EN
CALSCALE:GREGORIAN
METHOD:PUBLISH
X-WR-CALNAME:フリマ総研
X-ORIGINAL-URL:https://date.flima.net
X-WR-CALDESC:フリマ総研 のイベント
REFRESH-INTERVAL;VALUE=DURATION:PT1H
X-Robots-Tag:noindex
X-PUBLISHED-TTL:PT1H
BEGIN:VTIMEZONE
TZID:Asia/Tokyo
BEGIN:STANDARD
TZOFFSETFROM:+0900
TZOFFSETTO:+0900
TZNAME:JST
DTSTART:20250101T000000
END:STANDARD
END:VTIMEZONE
BEGIN:VEVENT
DTSTART;TZID=Asia/Tokyo:20260422T100000
DTEND;TZID=Asia/Tokyo:20260422T130000
DTSTAMP:20260422T014005
CREATED:20250804T230845Z
LAST-MODIFIED:20260308T220031Z
UID:2773-1776852000-1776862800@date.flima.net
SUMMARY:フィール・フードメッセ豊田店フリマ
DESCRIPTION:フィール・フードメッセ豊田店フリマ\nフィール・フードメッセトヨタ\n豊田市前田町5-63\n248号線トヨタ自動車本社北にすぐ\n雨天中止 全ブース車出店\nフリマもハンドメイドも800円！\n☆お申し込みはこちらから☆ \n車出店60ブース出店料800円 \n紙ふうせん\n080-9330-4128 \n\n				Facebook で共有 (新しいウィンドウで開きます)\n				Facebook\n			\n				X で共有 (新しいウィンドウで開きます)\n				X\n			その他\n				line で共有 (新しいウィンドウで開きます)\n				line\n			\n				印刷 (新しいウィンドウで開きます)\n				印刷\n			\n				友達にメールでリンクを送信 (新しいウィンドウで開きます)\n				メールアドレス
URL:https://date.flima.net/event/%e3%83%95%e3%82%a3%e3%83%bc%e3%83%ab%e3%83%bb%e3%83%95%e3%83%bc%e3%83%89%e3%83%a1%e3%83%83%e3%82%bb%e8%b1%8a%e7%94%b0%e5%ba%97%e3%83%95%e3%83%aa%e3%83%9e/
LOCATION:フィール・フードメッセトヨタ\, 豊田市前田町5-63
CATEGORIES:愛知県,豊田市
END:VEVENT
BEGIN:VEVENT
DTSTART;TZID=Asia/Tokyo:20260422T100000
DTEND;TZID=Asia/Tokyo:20260422T130000
DTSTAMP:20260422T014005
CREATED:20260227T220400Z
LAST-MODIFIED:20260227T220400Z
UID:3456-1776852000-1776862800@date.flima.net
SUMMARY:アピタdeフリマ!アピタ安城南店
DESCRIPTION:アピタdeフリマ!アピタ安城南店\n安城市桜井町城向二丁目9番地36\nアピタ安城南店立体駐車場３F\n立体駐車場開催の為基本的に中止無し\n車出店駐車場2台分（駐車スペース含む）\nアマ1000円　プロ2000円\n出店は申込フォームから \n申込URL \nほほえみあいち\n\n\n				Facebook で共有 (新しいウィンドウで開きます)\n				Facebook\n			\n				X で共有 (新しいウィンドウで開きます)\n				X\n			その他\n				line で共有 (新しいウィンドウで開きます)\n				line\n			\n				印刷 (新しいウィンドウで開きます)\n				印刷\n			\n				友達にメールでリンクを送信 (新しいウィンドウで開きます)\n				メールアドレス
URL:https://date.flima.net/event/%e3%82%a2%e3%83%94%e3%82%bfde%e3%83%95%e3%83%aa%e3%83%9e%e3%82%a2%e3%83%94%e3%82%bf%e5%ae%89%e5%9f%8e%e5%8d%97%e5%ba%97/
LOCATION:アピタ安城南店立体駐車場3F\, 安城市桜井町城向二丁目9番地36
CATEGORIES:愛知県,安城市
END:VEVENT
END:VCALENDAR